BEGIN:VCALENDAR
VERSION:2.0
PRODID:spatie/icalendar-generator
DESCRIPTION:Events from Q3 Management Solutions
X-WR-CALDESC:Events from Q3 Management Solutions
REFRESH-INTERVAL;VALUE=DURATION:PT1440M
X-PUBLISHED-TTL:PT1440M
BEGIN:VTIMEZONE
TZID:Asia/Kuala_Lumpur
BEGIN:STANDARD
DTSTART:20241229T000000Z
TZOFFSETFROM:+0800
TZOFFSETTO:+0800
END:STANDARD
END:VTIMEZONE
BEGIN:VTIMEZONE
TZID:UTC
BEGIN:STANDARD
DTSTART:20250725T083507Z
TZOFFSETFROM:+0000
TZOFFSETTO:+0000
END:STANDARD
END:VTIMEZONE
BEGIN:VEVENT
UID:22-22
DTSTAMP:20260421T083507Z
SUMMARY:Certified Sustainability Professional (CSP) - Cohort 3
LOCATION:
ORGANIZER;CN=admin:MAILTO:shazlee_musa@yahoo.com
DTSTART;TZID=Asia/Kuala_Lumpur;VALUE=DATE:20250925
DTEND;TZID=Asia/Kuala_Lumpur;VALUE=DATE:20250926
X-ALT-DESC;FMTTYPE=TEXT/HTML:
CATEGORIES:Certified Sustainability Professional (CSP)
URL;VALUE=URI:https://q3solutions.com.my/mc-events/certified-sustainability
 -professional-csp-cohort-3-2/?mc_id=22
END:VEVENT
END:VCALENDAR